BEGIN:VCALENDAR
VERSION:2.0
PRODID:-//OUTER SPACE - ECPv4.5.12.3//NONSGML v1.0//EN
CALSCALE:GREGORIAN
METHOD:PUBLISH
X-WR-CALNAME:OUTER SPACE
X-ORIGINAL-URL:http://outer-space.info
X-WR-CALDESC:Events for OUTER SPACE
BEGIN:VEVENT
DTSTART;TZID=Asia/Tokyo:20250815T220000
DTEND;TZID=Asia/Tokyo:20250816T030000
DTSTAMP:20260422T104529
CREATED:20250904T080234Z
LAST-MODIFIED:20250904T080234Z
UID:9656-1755295200-1755313200@outer-space.info
SUMMARY:JUNGLIST TALK VOL.8 Ryoichi Ueno Copy
DESCRIPTION:[vc_row css_animation=”” row_type=”row” use_row_as_full_screen_section=”no” type=”full_width” angled_section=”no” text_align=”left” background_image_as_pattern=”without_pattern”][vc_column width=”1/2″][vc_single_image image=”9616″ img_size=”full” qode_css_animation=””][vc_empty_space][/vc_column][vc_column width=”1/2″][vc_column_text]【08.15 FRI  “JUNGLIST TALK VOL.8 -Ryoichi Ueno-“】\nDUBSTEP SPECIAL\n \nB-Lines Delight、The Quest主催。 \nGOTH-TRADの主宰する「Back To Chill」にもゲスト出演を果たしているRyoichi Uenoが登場。 \n[/vc_column_text][vc_separator type=”normal” up=”16″ down=”16″][vc_column_text]-Special Guest-\nRyoichi Ueno\n(B-Lines Delight、The Quest、New World Audio、LDH Records) \n-Guest DJ-\nKAT \n-Resident Junglist-\nMOTZU\nVARB\nMITSUKI[/vc_column_text][vc_separator type=”normal” up=”16″ down=”16″][vc_column_text] \nOPEN 22:00\nDOOR :1\,000YEN（+1D ORDER）\n[/vc_column_text][vc_separator type=”normal” up=”16″ down=”16″][vc_column_text]Ryoichi Ueno\n(B-Lines Delight、The Quest、New World Audio、LDH Records) \nB-Lines Delight、The Quest主催。\n1995年から活動開始、ディープな音像と、へヴィーウェイトなビートでフロアを震わせるオリジナルトラックは国内外のベースミュージックシーンのトップDJからアツいサポートを受けている。 \nこれまでにコンピレーションアルバム等に楽曲を提供。また、”Sivarider”とのプロジェクト〈TBD Records〉から「Dump EP」をブリストルサウンドを日本に伝えてきた伝説のレコードショップ【Disc Shop Zero】限定でリリース。 \n2025年、国内を代表するDubstepパーティー「Back To Chill」のメンバー”CITY1″との共同制作を開始。\n共作「Landscape Dub」は、ロンドンのレーベル〈New World Audio〉よりリリースされた『Yen Town Dub EP』に収録。\n続いてコラボレーションした「Bad Bwoy Sound」は、リヴァプールのレーベル〈LDH Records〉の『Spring Man EP』に収録され、いずれも国内外のベースミュージックシーンで高い評価を受けている。 \n今年7月にはGOTH-TRADの主宰するREAL DUBSTEP SOUDND パーティー、「Back To Chill」にもゲスト出演を果たしている。[/vc_column_text][vc_separator type=”normal” up=”16″ down=”16″][vc_column_text] \n\n[/vc_column_text][vc_separator type=”normal” up=”16″ down=”16″][/vc_column][vc_column][/vc_column][/vc_row] \n
URL:http://outer-space.info/event/ryoichi-ueno-copy/
CATEGORIES:Night,Pick up,Special
ATTACH;FMTTYPE=image/jpeg:http://outer-space.info/wp-content/uploads/2025/07/250815_insta-1.jpg
END:VEVENT
END:VCALENDAR